BEGIN:VCALENDAR
VERSION:2.0
PRODID:-//Sub Zero Mission - ECPv6.0.0//NONSGML v1.0//EN
CALSCALE:GREGORIAN
METHOD:PUBLISH
X-WR-CALNAME:Sub Zero Mission
X-ORIGINAL-URL:https://legacy.subzeromission.org
X-WR-CALDESC:Events for Sub Zero Mission
REFRESH-INTERVAL;VALUE=DURATION:PT1H
X-Robots-Tag:noindex
X-PUBLISHED-TTL:PT1H
BEGIN:VTIMEZONE
TZID:America/New_York
BEGIN:DAYLIGHT
TZOFFSETFROM:-0500
TZOFFSETTO:-0400
TZNAME:EDT
DTSTART:20250309T070000
END:DAYLIGHT
BEGIN:STANDARD
TZOFFSETFROM:-0400
TZOFFSETTO:-0500
TZNAME:EST
DTSTART:20251102T060000
END:STANDARD
END:VTIMEZONE
BEGIN:VEVENT
DTSTART;TZID=America/New_York:20250320T100000
DTEND;TZID=America/New_York:20250320T120000
DTSTAMP:20260423T061853
CREATED:20250314T194157Z
LAST-MODIFIED:20250314T194530Z
UID:17539-1742464800-1742472000@legacy.subzeromission.org
SUMMARY:Ledgeview Elementary Tour
DESCRIPTION:Ledgeview Elementary’s 3rd graders are visiting for a tour and a check presentation\, with roughly 100 attendees.
URL:https://legacy.subzeromission.org/event/ledgeview-elementary-tour/
LOCATION:Sub Zero Mission HQ\, 1760 N Ridge Rd\, Painesville\, OH\, 44077\, United States
CATEGORIES:Check Presentation,Community Outreach
ATTACH;FMTTYPE=image/jpeg:https://legacy.subzeromission.org/wp-content/uploads/2025/03/BUs-at-NIght.jpg
ORGANIZER;CN="Vicki%20Butler":MAILTO:vicki.butler@subzeromission.org
END:VEVENT
END:VCALENDAR